Name | Last modified | Size | Description | |
---|---|---|---|---|
Parent Directory | - | |||
buildbin-out.txt | 28-Mar-2024 00:38 | 1.1K | ||
buildbin-summary.dcf | 28-Mar-2024 00:38 | 513 | ||
buildsrc-out.txt | 28-Mar-2024 00:38 | 899 | ||
buildsrc-summary.dcf | 28-Mar-2024 00:38 | 452 | ||
checksrc-out.txt | 28-Mar-2024 00:38 | 4.3K | ||
checksrc-summary.dcf | 28-Mar-2024 00:38 | 446 | ||
install-out.txt | 28-Mar-2024 00:38 | 962 | ||
install-summary.dcf | 28-Mar-2024 00:38 | 268 | ||