Index of /checkResults/devel/bioc-LATEST/goTools/raw-results/nebbiolo2

[ICO]NameLast modifiedSizeDescription

[DIR]Parent Directory  -  
[TXT]buildsrc-out.txt16-Jun-2024 01:33 893  
[   ]buildsrc-summary.dcf16-Jun-2024 01:33 423  
[TXT]checksrc-out.txt16-Jun-2024 01:33 4.2K 
[   ]checksrc-summary.dcf16-Jun-2024 01:33 413  
[TXT]install-out.txt16-Jun-2024 01:33 952  
[   ]install-summary.dcf16-Jun-2024 01:33 259