Index of /checkResults/devel/bioc-LATEST/goTools/raw-results/merida1

[ICO]NameLast modifiedSizeDescription

[DIR]Parent Directory  -  
[TXT]buildbin-out.txt23-May-2024 00:37 1.2K 
[   ]buildbin-summary.dcf23-May-2024 00:37 530  
[TXT]buildsrc-out.txt23-May-2024 00:37 879  
[   ]buildsrc-summary.dcf23-May-2024 00:37 427  
[TXT]checksrc-out.txt23-May-2024 00:37 4.3K 
[   ]checksrc-summary.dcf23-May-2024 00:37 444  
[TXT]install-out.txt23-May-2024 00:37 1.0K 
[   ]install-summary.dcf23-May-2024 00:37 269