############################################################################## ############################################################################## ### ### Running command: ### ### C:\cygwin\bin\curl.exe -O http://155.52.207.166/BBS/3.16/bioc/src/contrib/goSTAG_1.21.0.tar.gz && rm -rf goSTAG.buildbin-libdir && mkdir goSTAG.buildbin-libdir && F:\biocbuild\bbs-3.16-bioc\R\bin\R.exe CMD INSTALL --merge-multiarch --build --library=goSTAG.buildbin-libdir goSTAG_1.21.0.tar.gz && F:\biocbuild\bbs-3.16-bioc\R\bin\R.exe CMD INSTALL goSTAG_1.21.0.zip && rm goSTAG_1.21.0.tar.gz goSTAG_1.21.0.zip ### ############################################################################## ############################################################################## % Total % Received % Xferd Average Speed Time Time Time Current Dload Upload Total Spent Left Speed 0 0 0 0 0 0 0 0 --:--:-- --:--:-- --:--:-- 0 50 1576k 50 798k 0 0 2654k 0 --:--:-- --:--:-- --:--:-- 2653k 100 1576k 100 1576k 0 0 2817k 0 --:--:-- --:--:-- --:--:-- 2815k only one architecture so ignoring '--merge-multiarch' * installing *source* package 'goSTAG' ... ** using staged installation ** R ** data *** moving datasets to lazyload DB ** inst ** byte-compile and prepare package for lazy loading ** help *** installing help indices ** building package indices ** installing vignettes ** testing if installed package can be loaded from temporary location ** testing if installed package can be loaded from final location ** testing if installed package keeps a record of temporary installation path * MD5 sums packaged installation of 'goSTAG' as goSTAG_1.21.0.zip * DONE (goSTAG) * installing to library 'F:/biocbuild/bbs-3.16-bioc/R/library' package 'goSTAG' successfully unpacked and MD5 sums checked