Index of /checkResults/devel/bioc-LATEST/goSTAG/raw-results/palomino4

[ICO]NameLast modifiedSizeDescription

[DIR]Parent Directory  -  
[   ]install-summary.dcf14-Aug-2022 00:06 619  
[TXT]install-out.txt14-Aug-2022 00:06 1.8K 
[   ]checksrc-summary.dcf14-Aug-2022 00:06 446  
[TXT]checksrc-out.txt14-Aug-2022 00:06 3.5K 
[   ]buildsrc-summary.dcf14-Aug-2022 00:06 448  
[TXT]buildsrc-out.txt14-Aug-2022 00:06 834  
[   ]buildbin-summary.dcf14-Aug-2022 00:06 527  
[TXT]buildbin-out.txt14-Aug-2022 00:06 1.2K