Back to Multiple platform build/check report for BioC 3.15
ABCDEF[G]HIJKLMNOPQRSTUVWXYZ

This page was generated on 2022-01-18 11:07:25 -0500 (Tue, 18 Jan 2022).

HostnameOSArch (*)R versionInstalled pkgs
nebbiolo1Linux (Ubuntu 20.04.4 LTS)x86_64R Under development (unstable) (2022-01-05 r81451) -- "Unsuffered Consequences" 4161
riesling1Windows Server 2019 Standardx64R Under development (unstable) (2021-11-21 r81221) -- "Unsuffered Consequences" 4056
palomino3Windows Server 2022 Datacenterx64R Under development (unstable) (2021-12-21 r81400 ucrt) -- "Unsuffered Consequences" 3998
merida1macOS 10.14.6 Mojavex86_64R Under development (unstable) (2022-01-05 r81451) -- "Unsuffered Consequences" 4115
Click on any hostname to see more info about the system (e.g. compilers)      (*) as reported by 'uname -p', except on Windows and Mac OS X

INSTALL results for goProfiles on riesling1


To the developers/maintainers of the goProfiles package:
- Please allow up to 24 hours (and sometimes 48 hours) for your latest push to git@git.bioconductor.org:packages/goProfiles.git to
reflect on this report. See How and When does the builder pull? When will my changes propagate? here for more information.
- Make sure to use the following settings in order to reproduce any error or warning you see on this page.

raw results

Package 799/2074HostnameOS / ArchINSTALLBUILDCHECKBUILD BIN
goProfiles 1.57.0  (landing page)
Alex Sanchez
Snapshot Date: 2022-01-17 13:55:17 -0500 (Mon, 17 Jan 2022)
git_url: https://git.bioconductor.org/packages/goProfiles
git_branch: master
git_last_commit: 4d72d9d
git_last_commit_date: 2021-10-26 11:52:18 -0500 (Tue, 26 Oct 2021)
nebbiolo1Linux (Ubuntu 20.04.4 LTS) / x86_64  OK    OK    OK  UNNEEDED, same version is already published
riesling1Windows Server 2019 Standard / x64  OK    OK    OK    OK  
palomino3Windows Server 2022 Datacenter / x64  OK    OK    OK    OK  NO, package depends on 'Biobase' which is not available
merida1macOS 10.14.6 Mojave / x86_64  OK    OK    OK    OK  UNNEEDED, same version is already published

Summary

Package: goProfiles
Version: 1.57.0
Command: D:\biocbuild\bbs-3.15-bioc\R\bin\R.exe CMD INSTALL goProfiles
StartedAt: 2022-01-17 15:48:55 -0500 (Mon, 17 Jan 2022)
EndedAt: 2022-01-17 15:50:07 -0500 (Mon, 17 Jan 2022)
EllapsedTime: 72.1 seconds
RetCode: 0
Status:   OK  

Command output

##############################################################################
##############################################################################
###
### Running command:
###
###   D:\biocbuild\bbs-3.15-bioc\R\bin\R.exe CMD INSTALL goProfiles
###
##############################################################################
##############################################################################


* installing to library 'D:/biocbuild/bbs-3.15-bioc/R/library'
* installing *source* package 'goProfiles' ...
** using staged installation
** R
** data
** inst
** byte-compile and prepare package for lazy loading
** help
*** installing help indices
  converting help for package 'goProfiles'
    finding HTML links ... done
    CD4ids                                  html  
    GOTermsList                             html  
    basicProfile                            html  
    clustKidneyMF2                          html  
    compSummary                             html  
    compareGOProfiles                       html  
    compareGeneLists                        html  
    compareProfilesLists                    html  
    contractedProfile                       html  
    conversionFunctions                     html  
    drosophila                              html  
    equivClust                              html  
    equivClust2pdf                          html  
    equivSummary                            html  
    equivalentGOProfiles                    html  
    expandedLevel                           html  
    expandedProfile                         html  
    fisherGOProfiles                        html  
    fitGOProfile                            html  
    goProfiles-package                      html  
    hugoIds                                 html  
    iterEquivClust                          html  
    kidneyGeneLists                         html  
    mergeProfilesLists                      html  
    ngenes                                  html  
    omimIds                                 html  
    plotProfiles                            html  
    printProfiles                           html  
    prostateIds                             html  
** building package indices
** installing vignettes
** testing if installed package can be loaded from temporary location
** testing if installed package can be loaded from final location
** testing if installed package keeps a record of temporary installation path
* DONE (goProfiles)
Making 'packages.html' ... done