Index of /checkResults/devel/bioc-LATEST/goProfiles/raw-results/nebbiolo1

[ICO]NameLast modifiedSizeDescription

[DIR]Parent Directory  -  
[   ]install-summary.dcf29-Mar-2024 00:36 265  
[   ]buildsrc-summary.dcf29-Mar-2024 00:36 426  
[   ]checksrc-summary.dcf29-Mar-2024 00:36 426  
[TXT]install-out.txt29-Mar-2024 00:36 969  
[TXT]buildsrc-out.txt29-Mar-2024 00:36 1.1K 
[TXT]checksrc-out.txt29-Mar-2024 00:36 3.6K