Index of /checkResults/devel/bioc-LATEST/goProfiles/raw-results/merida1

[ICO]NameLast modifiedSizeDescription

[DIR]Parent Directory  -  
[TXT]install-out.txt05-Mar-2024 01:39 1.0K 
[   ]install-summary.dcf05-Mar-2024 01:39 275  
[TXT]buildsrc-out.txt05-Mar-2024 01:39 1.1K 
[   ]buildsrc-summary.dcf05-Mar-2024 01:39 436  
[TXT]checksrc-out.txt05-Mar-2024 01:39 4.0K 
[   ]checksrc-summary.dcf05-Mar-2024 01:39 456  
[TXT]buildbin-out.txt05-Mar-2024 01:39 1.2K 
[   ]buildbin-summary.dcf05-Mar-2024 01:39 546