![]() | Name | Last modified | Size | Description |
---|---|---|---|---|
![]() | Parent Directory | - | ||
![]() | buildsrc-out.txt | 30-Nov-2023 01:38 | 1.1K | |
![]() | buildsrc-summary.dcf | 30-Nov-2023 01:38 | 435 | |
![]() | checksrc-out.txt | 30-Nov-2023 01:38 | 3.9K | |
![]() | checksrc-summary.dcf | 30-Nov-2023 01:38 | 459 | |
![]() | install-out.txt | 30-Nov-2023 01:38 | 1.0K | |
![]() | install-summary.dcf | 30-Nov-2023 01:38 | 274 | |