Index of /checkResults/devel/bioc-LATEST/gmoviz/raw-results
Name
Last modified
Size
Description
Parent Directory
-
info.dcf
25-May-2022 00:07
277
lconway/
25-May-2022 00:07
-
nebbiolo2/
25-May-2022 00:04
-
palomino4/
25-May-2022 00:06
-