Name | Last modified | Size | Description | |
---|---|---|---|---|
Parent Directory | - | |||
buildsrc-out.txt | 29-Mar-2024 00:36 | 828 | ||
buildsrc-summary.dcf | 29-Mar-2024 00:36 | 412 | ||
checksrc-out.txt | 29-Mar-2024 00:36 | 63K | ||
checksrc-summary.dcf | 29-Mar-2024 00:36 | 412 | ||
install-out.txt | 29-Mar-2024 00:36 | 1.3M | ||
install-summary.dcf | 29-Mar-2024 00:36 | 256 | ||