Index of /checkResults/devel/bioc-LATEST/gmapR/raw-results

[ICO]NameLast modifiedSizeDescription

[DIR]Parent Directory  -  
[   ]info.dcf24-May-2022 00:07 262  
[DIR]lconway/24-May-2022 00:07 -  
[DIR]nebbiolo2/24-May-2022 00:05 -