Back to Multiple platform build/check report for BioC 3.15
ABCDEF[G]HIJKLMNOPQRSTUVWXYZ

This page was generated on 2022-01-15 11:07:41 -0500 (Sat, 15 Jan 2022).

HostnameOSArch (*)R versionInstalled pkgs
nebbiolo1Linux (Ubuntu 20.04.4 LTS)x86_64R Under development (unstable) (2022-01-05 r81451) -- "Unsuffered Consequences" 4160
riesling1Windows Server 2019 Standardx64R Under development (unstable) (2021-11-21 r81221) -- "Unsuffered Consequences" 4055
palomino3Windows Server 2022 Datacenterx64R Under development (unstable) (2021-12-21 r81400 ucrt) -- "Unsuffered Consequences" 3997
merida1macOS 10.14.6 Mojavex86_64R Under development (unstable) (2022-01-05 r81451) -- "Unsuffered Consequences" 4114
Click on any hostname to see more info about the system (e.g. compilers)      (*) as reported by 'uname -p', except on Windows and Mac OS X

BUILD BIN results for globaltest on riesling1


To the developers/maintainers of the globaltest package:
- Please allow up to 24 hours (and sometimes 48 hours) for your latest push to git@git.bioconductor.org:packages/globaltest.git to
reflect on this report. See How and When does the builder pull? When will my changes propagate? here for more information.
- Make sure to use the following settings in order to reproduce any error or warning you see on this page.

raw results

Package 790/2074HostnameOS / ArchINSTALLBUILDCHECKBUILD BIN
globaltest 5.49.1  (landing page)
Jelle Goeman
Snapshot Date: 2022-01-14 13:55:18 -0500 (Fri, 14 Jan 2022)
git_url: https://git.bioconductor.org/packages/globaltest
git_branch: master
git_last_commit: 23729c6
git_last_commit_date: 2021-12-17 07:30:30 -0500 (Fri, 17 Dec 2021)
nebbiolo1Linux (Ubuntu 20.04.4 LTS) / x86_64  OK    OK    OK  UNNEEDED, same version is already published
riesling1Windows Server 2019 Standard / x64  OK    OK    OK    OK  
palomino3Windows Server 2022 Datacenter / x64  OK    OK    OK    OK  NO, package depends on 'Biobase' which is not available
merida1macOS 10.14.6 Mojave / x86_64  OK    OK    OK    OK  UNNEEDED, same version is already published

Summary

Package: globaltest
Version: 5.49.1
Command: rm -rf globaltest.buildbin-libdir && mkdir globaltest.buildbin-libdir && D:\biocbuild\bbs-3.15-bioc\R\bin\R.exe CMD INSTALL --build --library=globaltest.buildbin-libdir globaltest_5.49.1.tar.gz
StartedAt: 2022-01-14 21:00:32 -0500 (Fri, 14 Jan 2022)
EndedAt: 2022-01-14 21:01:34 -0500 (Fri, 14 Jan 2022)
EllapsedTime: 62.1 seconds
RetCode: 0
Status:   OK  
PackageFile: globaltest_5.49.1.zip
PackageFileSize: 1.158 MiB

Command output

##############################################################################
##############################################################################
###
### Running command:
###
###   rm -rf globaltest.buildbin-libdir && mkdir globaltest.buildbin-libdir && D:\biocbuild\bbs-3.15-bioc\R\bin\R.exe CMD INSTALL --build --library=globaltest.buildbin-libdir globaltest_5.49.1.tar.gz
###
##############################################################################
##############################################################################


* installing *source* package 'globaltest' ...
** using staged installation
** R
** inst
** byte-compile and prepare package for lazy loading
** help
*** installing help indices
  converting help for package 'globaltest'
    finding HTML links ... done
    comparative                             html  
    diagnostics                             html  
    genesettesting                          html  
    goodnessoffit                           html  
    gt                                      html  
    gt.object-class                         html  
    gtoptions                               html  
    mlogit                                  html  
    multtest                                html  
** building package indices
** installing vignettes
** testing if installed package can be loaded from temporary location
** testing if installed package can be loaded from final location
** testing if installed package keeps a record of temporary installation path
* MD5 sums
packaged installation of 'globaltest' as globaltest_5.49.1.zip
* DONE (globaltest)