Index of /checkResults/devel/bioc-LATEST/glmSparseNet/raw-results
Name
Last modified
Size
Description
Parent Directory
-
info.dcf
03-Jun-2023 00:06
293
lconway/
03-Jun-2023 00:06
-
nebbiolo2/
03-Jun-2023 00:05
-
palomino4/
03-Jun-2023 00:06
-