Back to Multiple platform build/check report for BioC 3.16
ABCDEF[G]HIJKLMNOPQRSTUVWXYZ

This page was generated on 2022-06-24 11:06:32 -0400 (Fri, 24 Jun 2022).

HostnameOSArch (*)R versionInstalled pkgs
nebbiolo2Linux (Ubuntu 20.04.4 LTS)x86_644.2.0 Patched (2022-06-02 r82447) -- "Vigorous Calisthenics" 4331
palomino4Windows Server 2022 Datacenterx644.2.0 Patched (2022-06-02 r82447 ucrt) -- "Vigorous Calisthenics" 4136
lconwaymacOS 12.2.1 Montereyx86_644.2.0 Patched (2022-05-29 r82424) -- "Vigorous Calisthenics" 4147
Click on any hostname to see more info about the system (e.g. compilers)      (*) as reported by 'uname -p', except on Windows and Mac OS X

CHECK results for girafe on palomino4


To the developers/maintainers of the girafe package:
- Please allow up to 24 hours (and sometimes 48 hours) for your latest push to git@git.bioconductor.org:packages/girafe.git to
reflect on this report. See How and When does the builder pull? When will my changes propagate? for more information.
- Make sure to use the following settings in order to reproduce any error or warning you see on this page.

raw results

Package 796/2118HostnameOS / ArchINSTALLBUILDCHECKBUILD BIN
girafe 1.49.0  (landing page)
J. Toedling
Snapshot Date: 2022-06-23 14:00:04 -0400 (Thu, 23 Jun 2022)
git_url: https://git.bioconductor.org/packages/girafe
git_branch: master
git_last_commit: 9a25e4d
git_last_commit_date: 2022-04-26 11:04:31 -0400 (Tue, 26 Apr 2022)
nebbiolo2Linux (Ubuntu 20.04.4 LTS) / x86_64  OK    OK    OK  UNNEEDED, same version is already published
palomino4Windows Server 2022 Datacenter / x64  OK    OK    OK    OK  UNNEEDED, same version is already published
lconwaymacOS 12.2.1 Monterey / x86_64  OK    OK    OK    OK  UNNEEDED, same version is already published

Summary

Package: girafe
Version: 1.49.0
Command: F:\biocbuild\bbs-3.16-bioc\R\bin\R.exe CMD check --force-multiarch --install=check:girafe.install-out.txt --library=F:\biocbuild\bbs-3.16-bioc\R\library --no-vignettes --timings girafe_1.49.0.tar.gz
StartedAt: 2022-06-24 02:08:36 -0400 (Fri, 24 Jun 2022)
EndedAt: 2022-06-24 02:12:19 -0400 (Fri, 24 Jun 2022)
EllapsedTime: 223.6 seconds
RetCode: 0
Status:   OK  
CheckDir: girafe.Rcheck
Warnings: 0

Command output

##############################################################################
##############################################################################
###
### Running command:
###
###   F:\biocbuild\bbs-3.16-bioc\R\bin\R.exe CMD check --force-multiarch --install=check:girafe.install-out.txt --library=F:\biocbuild\bbs-3.16-bioc\R\library --no-vignettes --timings girafe_1.49.0.tar.gz
###
##############################################################################
##############################################################################


* using log directory 'F:/biocbuild/bbs-3.16-bioc/meat/girafe.Rcheck'
* using R version 4.2.0 Patched (2022-06-02 r82447 ucrt)
* using platform: x86_64-w64-mingw32 (64-bit)
* using session charset: UTF-8
* using option '--no-vignettes'
* checking for file 'girafe/DESCRIPTION' ... OK
* checking extension type ... Package
* this is package 'girafe' version '1.49.0'
* checking package namespace information ... OK
* checking package dependencies ... NOTE
Depends: includes the non-default packages:
  'BiocGenerics', 'S4Vectors', 'Rsamtools', 'intervals', 'ShortRead',
  'genomeIntervals', 'grid'
Adding so many packages to the search path is excessive and importing
selectively is preferable.
* checking if this is a source package ... OK
* checking if there is a namespace ... OK
* checking for hidden files and directories ... OK
* checking for portable file names ... OK
* checking whether package 'girafe' can be installed ... OK
* checking installed package size ... OK
* checking package directory ... OK
* checking 'build' directory ... OK
* checking DESCRIPTION meta-information ... NOTE
Packages listed in more than one of Depends, Imports, Suggests, Enhances:
  'methods' 'genomeIntervals'
A package should be listed in only one of these fields.
* checking top-level files ... OK
* checking for left-over files ... OK
* checking index information ... OK
* checking package subdirectories ... OK
* checking R files for non-ASCII characters ... OK
* checking R files for syntax errors ... OK
* checking whether the package can be loaded ... OK
* checking whether the package can be loaded with stated dependencies ... OK
* checking whether the package can be unloaded cleanly ... OK
* checking whether the namespace can be loaded with stated dependencies ... OK
* checking whether the namespace can be unloaded cleanly ... OK
* checking dependencies in R code ... NOTE
'library' or 'require' call to 'MASS' in package code.
  Please use :: or requireNamespace() instead.
  See section 'Suggested packages' in the 'Writing R Extensions' manual.
Package in Depends field not imported from: 'Rsamtools'
  These packages need to be imported from (in the NAMESPACE file)
  for when this namespace is loaded but not attached.
Unexported object imported by a ':::' call: 'genomeIntervals:::intervalsForOverlap'
  See the note in ?`:::` about the use of this operator.
* checking S3 generic/method consistency ... OK
* checking replacement functions ... OK
* checking foreign function calls ... OK
* checking R code for possible problems ... NOTE
agiFromBam: no visible binding for global variable 'mclapply'
agiFromBam: no visible global function definition for 'scanBamHeader'
agiFromBam: no visible global function definition for 'ScanBamParam'
agiFromBam : <anonymous>: no visible global function definition for
  'IRangesList'
agiFromBam : <anonymous>: no visible global function definition for
  'scanBamFlag'
agiFromBam : <anonymous>: no visible global function definition for
  'scanBam'
countReadsAnnotated: no visible binding for global variable 'mclapply'
countReadsAnnotated: no visible binding for global variable 'fraction1'
fracOverlap: no visible binding for global variable 'fraction1'
fracOverlap: no visible binding for global variable 'fraction2'
getFeatureCounts: no visible binding for global variable 'fraction1'
getFeatureCounts: no visible binding for global variable 'Index1'
intPhred: no visible binding for global variable 'mclapply'
oldAGIoverlap: no visible binding for global variable 'mclapply'
plotReads: no visible binding for global variable 'x.start'
plotReads: no visible binding for global variable 'x.end'
plotReads: no visible binding for global variable 'y'
reduceOne: no visible binding for global variable 'fraction1'
reduceOne: no visible binding for global variable 'fraction2'
trimAdapter: no visible global function definition for 'DNAString'
trimAdapter: no visible global function definition for 'narrow'
windowCountAndGC: no visible binding for global variable 'n.reads'
windowCountAndGC: no visible global function definition for 'Views'
windowCountAndGC: no visible global function definition for 'unmasked'
windowCountAndGC: no visible global function definition for
  'alphabetFrequency'
clusters,AlignedGenomeIntervals: no visible binding for global variable
  'mclapply'
clusters,Genome_intervals: no visible binding for global variable
  'mclapply'
coverage,AlignedGenomeIntervals: no visible binding for global variable
  'mclapply'
coverage,AlignedGenomeIntervals : <anonymous>: no visible binding for
  global variable 'on.minus'
interval_included,AlignedGenomeIntervals-AlignedGenomeIntervals: no
  visible binding for global variable 'mclapply'
reduce,AlignedGenomeIntervals: no visible binding for global variable
  'mclapply'
reduce,Genome_intervals: no visible binding for global variable
  'mclapply'
reduce,Genome_intervals: no visible binding for global variable
  'fraction1'
reduce,Genome_intervals: no visible binding for global variable
  'fraction2'
Undefined global functions or variables:
  DNAString IRangesList Index1 ScanBamParam Views alphabetFrequency
  fraction1 fraction2 mclapply n.reads narrow on.minus scanBam
  scanBamFlag scanBamHeader unmasked x.end x.start y
* checking Rd files ... OK
* checking Rd metadata ... OK
* checking Rd cross-references ... OK
* checking for missing documentation entries ... OK
* checking for code/documentation mismatches ... OK
* checking Rd \usage sections ... OK
* checking Rd contents ... OK
* checking for unstated dependencies in examples ... OK
* checking line endings in C/C++/Fortran sources/headers ... OK
* checking line endings in Makefiles ... OK
* checking for GNU extensions in Makefiles ... OK
* checking include directives in Makefiles ... OK
* checking compiled code ... NOTE
Note: information on .o files for x64 is not available
File 'F:/biocbuild/bbs-3.16-bioc/R/library/girafe/libs/x64/girafe.dll':
  Found 'abort', possibly from 'abort' (C), 'runtime' (Fortran)

Compiled code should not call entry points which might terminate R nor
write to stdout/stderr instead of to the console, nor use Fortran I/O
nor system RNGs. The detected symbols are linked into the code but
might come from libraries and not actually be called.

See 'Writing portable packages' in the 'Writing R Extensions' manual.
* checking sizes of PDF files under 'inst/doc' ... OK
* checking files in 'vignettes' ... OK
* checking examples ... OK
Examples with CPU (user + system) or elapsed time > 5s
                              user system elapsed
AlignedGenomeIntervals-class 10.15   0.87   11.03
negbinomsig                   7.75   0.09    7.84
perWindow                     7.53   0.05    7.58
* checking for unstated dependencies in vignettes ... OK
* checking package vignettes in 'inst/doc' ... OK
* checking running R code from vignettes ... SKIPPED
* checking re-building of vignette outputs ... SKIPPED
* checking PDF version of manual ... OK
* DONE

Status: 5 NOTEs
See
  'F:/biocbuild/bbs-3.16-bioc/meat/girafe.Rcheck/00check.log'
for details.



Installation output

girafe.Rcheck/00install.out

##############################################################################
##############################################################################
###
### Running command:
###
###   C:\cygwin\bin\curl.exe -O http://155.52.207.166/BBS/3.16/bioc/src/contrib/girafe_1.49.0.tar.gz && rm -rf girafe.buildbin-libdir && mkdir girafe.buildbin-libdir && F:\biocbuild\bbs-3.16-bioc\R\bin\R.exe CMD INSTALL --merge-multiarch --build --library=girafe.buildbin-libdir girafe_1.49.0.tar.gz && F:\biocbuild\bbs-3.16-bioc\R\bin\R.exe CMD INSTALL girafe_1.49.0.zip && rm girafe_1.49.0.tar.gz girafe_1.49.0.zip
###
##############################################################################
##############################################################################


  % Total    % Received % Xferd  Average Speed   Time    Time     Time  Current
                                 Dload  Upload   Total   Spent    Left  Speed

  0     0    0     0    0     0      0      0 --:--:-- --:--:-- --:--:--     0
100 1059k  100 1059k    0     0  8686k      0 --:--:-- --:--:-- --:--:-- 8756k
only one architecture so ignoring '--merge-multiarch'
* installing *source* package 'girafe' ...
** using staged installation
** libs
g++ -std=gnu++11  -I"F:/biocbuild/bbs-3.16-bioc/R/include" -DNDEBUG     -I"C:/rtools42/x86_64-w64-mingw32.static.posix/include"     -O2 -Wall  -mfpmath=sse -msse2 -mstackrealign  -c coverage.cpp -o coverage.o
gcc  -I"F:/biocbuild/bbs-3.16-bioc/R/include" -DNDEBUG     -I"C:/rtools42/x86_64-w64-mingw32.static.posix/include"     -O2 -Wall  -std=gnu99 -mfpmath=sse -msse2 -mstackrealign  -c girafe_init.c -o girafe_init.o
g++ -std=gnu++11 -shared -s -static-libgcc -o girafe.dll tmp.def coverage.o girafe_init.o -LC:/rtools42/x86_64-w64-mingw32.static.posix/lib/x64 -LC:/rtools42/x86_64-w64-mingw32.static.posix/lib -LF:/biocbuild/bbs-3.16-bioc/R/bin/x64 -lR
installing to F:/biocbuild/bbs-3.16-bioc/meat/girafe.buildbin-libdir/00LOCK-girafe/00new/girafe/libs/x64
** R
** inst
** byte-compile and prepare package for lazy loading
No methods found in package 'IRanges' for requests: 'score', 'score<-', 'sort' when loading 'girafe'
Creating a generic function for 'sample' from package 'base' in package 'girafe'
** help
*** installing help indices
** building package indices
** installing vignettes
** testing if installed package can be loaded from temporary location
No methods found in package 'IRanges' for requests: 'score', 'score<-', 'sort' when loading 'girafe'
** testing if installed package can be loaded from final location
No methods found in package 'IRanges' for requests: 'score', 'score<-', 'sort' when loading 'girafe'
** testing if installed package keeps a record of temporary installation path
* MD5 sums
packaged installation of 'girafe' as girafe_1.49.0.zip
* DONE (girafe)
* installing to library 'F:/biocbuild/bbs-3.16-bioc/R/library'
package 'girafe' successfully unpacked and MD5 sums checked

Tests output


Example timings

girafe.Rcheck/girafe-Ex.timings

nameusersystemelapsed
AlignedGenomeIntervals-class10.15 0.8711.03
agiFromBam0.190.000.19
countReadsAnnotated0.070.000.07
fracOverlap0.270.000.27
intPhred0.030.000.03
medianByPosition0.280.000.28
negbinomsig7.750.097.84
perWindow7.530.057.58
plotAligned0.020.000.01
trimAdapter0.060.000.07
weightedConsensusMatrix000
whichNearestMethods0.200.000.21