Back to Multiple platform build/check report for BioC 3.15
ABCDEF[G]HIJKLMNOPQRSTUVWXYZ

This page was generated on 2022-01-17 11:07:25 -0500 (Mon, 17 Jan 2022).

HostnameOSArch (*)R versionInstalled pkgs
nebbiolo1Linux (Ubuntu 20.04.4 LTS)x86_64R Under development (unstable) (2022-01-05 r81451) -- "Unsuffered Consequences" 4161
riesling1Windows Server 2019 Standardx64R Under development (unstable) (2021-11-21 r81221) -- "Unsuffered Consequences" 4056
palomino3Windows Server 2022 Datacenterx64R Under development (unstable) (2021-12-21 r81400 ucrt) -- "Unsuffered Consequences" 3998
merida1macOS 10.14.6 Mojavex86_64R Under development (unstable) (2022-01-05 r81451) -- "Unsuffered Consequences" 4115
Click on any hostname to see more info about the system (e.g. compilers)      (*) as reported by 'uname -p', except on Windows and Mac OS X

INSTALL results for ggbio on riesling1


To the developers/maintainers of the ggbio package:
- Please allow up to 24 hours (and sometimes 48 hours) for your latest push to git@git.bioconductor.org:packages/ggbio.git to
reflect on this report. See How and When does the builder pull? When will my changes propagate? here for more information.
- Make sure to use the following settings in order to reproduce any error or warning you see on this page.

raw results

Package 772/2074HostnameOS / ArchINSTALLBUILDCHECKBUILD BIN
ggbio 1.43.0  (landing page)
Michael Lawrence
Snapshot Date: 2022-01-16 13:55:18 -0500 (Sun, 16 Jan 2022)
git_url: https://git.bioconductor.org/packages/ggbio
git_branch: master
git_last_commit: 7f5f384
git_last_commit_date: 2021-11-05 14:03:26 -0500 (Fri, 05 Nov 2021)
nebbiolo1Linux (Ubuntu 20.04.4 LTS) / x86_64  OK    OK    WARNINGS  UNNEEDED, same version is already published
riesling1Windows Server 2019 Standard / x64  OK    OK    WARNINGS    OK  
palomino3Windows Server 2022 Datacenter / x64  OK    OK    WARNINGS    OK  NO, package depends on 'BiocGenerics' which is not available
merida1macOS 10.14.6 Mojave / x86_64  OK    OK    WARNINGS    OK  UNNEEDED, same version is already published

Summary

Package: ggbio
Version: 1.43.0
Command: D:\biocbuild\bbs-3.15-bioc\R\bin\R.exe CMD INSTALL ggbio
StartedAt: 2022-01-16 16:13:20 -0500 (Sun, 16 Jan 2022)
EndedAt: 2022-01-16 16:14:41 -0500 (Sun, 16 Jan 2022)
EllapsedTime: 81.1 seconds
RetCode: 0
Status:   OK  

Command output

##############################################################################
##############################################################################
###
### Running command:
###
###   D:\biocbuild\bbs-3.15-bioc\R\bin\R.exe CMD INSTALL ggbio
###
##############################################################################
##############################################################################


* installing to library 'D:/biocbuild/bbs-3.15-bioc/R/library'
* installing *source* package 'ggbio' ...
** using staged installation
** R
** inst
** byte-compile and prepare package for lazy loading
Creating a new generic function for 'rescale' in package 'ggbio'
Creating a new generic function for 'xlim' in package 'ggbio'
Creating a new generic function for 'geom_rect' in package 'ggbio'
Creating a new generic function for 'geom_segment' in package 'ggbio'
Creating a new generic function for 'geom_bar' in package 'ggbio'
Creating a new generic function for 'stat_identity' in package 'ggbio'
Creating a new generic function for 'stat_bin' in package 'ggbio'
** help
*** installing help indices
  converting help for package 'ggbio'
    finding HTML links ... done
    Grob-class                              html  
    Plot-class                              html  
    Tracked-class                           html  
    arrangeGrobByParsingLegend              html  
    autoplot-method                         html  
    finding level-2 HTML links ... done

    geom_alignment-method                   html  
    geom_arch-method                        html  
    geom_arrow-method                       html  
    geom_arrowrect-method                   html  
    geom_bar-method                         html  
    geom_chevron-method                     html  
    geom_rect-method                        html  
    geom_segment-method                     html  
    ggbio-class                             html  
REDIRECT:topic	 Previous alias or file overwritten by alias: D:/biocbuild/bbs-3.15-bioc/R/library/00LOCK-ggbio/00new/ggbio/help/GGbio.html
REDIRECT:topic	 Previous alias or file overwritten by alias: D:/biocbuild/bbs-3.15-bioc/R/library/00LOCK-ggbio/00new/ggbio/help/ggbio-class.html
    ggplot-method                           html  
    ggsave                                  html  
    layout_circle-method                    html  
    layout_karyogram-method                 html  
    nav                                     html  
    plotFragLength                          html  
    plotGrandLinear                         html  
    plotRangesLinkedToData                  html  
    plotSingleChrom                         html  
    plotSpliceSum                           html  
    plotStackedOverview                     html  
    rescale-method                          html  
    scale_fill_fold_change                  html  
    scale_fill_giemsa                       html  
    scale_x_sequnit                         html  
    stat_aggregate-method                   html  
    stat_bin-method                         html  
    stat_coverage-method                    html  
    stat_gene-method                        html  
    stat_identity-method                    html  
    stat_mismatch-method                    html  
    stat_reduce-method                      html  
    stat_slice-method                       html  
    stat_stepping-method                    html  
    stat_table-method                       html  
    theme                                   html  
    tracks                                  html  
** building package indices
** installing vignettes
** testing if installed package can be loaded from temporary location
** testing if installed package can be loaded from final location
** testing if installed package keeps a record of temporary installation path
* DONE (ggbio)
Making 'packages.html' ... done