Name | Last modified | Size | Description | |
---|---|---|---|---|
Parent Directory | - | |||
info.dcf | 16-Jun-2024 01:32 | 273 | ||
palomino4/ | 12-Jun-2024 04:40 | - | ||
nebbiolo2/ | 16-Jun-2024 01:33 | - | ||
merida1/ | 12-Jun-2024 04:41 | - | ||
lconway/ | 16-Jun-2024 01:34 | - | ||
kunpeng2/ | 16-May-2024 02:46 | - | ||
kjohnson3/ | 16-Jun-2024 01:35 | - | ||
kjohnson1/ | 12-Jun-2024 04:43 | - | ||