Name | Last modified | Size | Description | |
---|---|---|---|---|
Parent Directory | - | |||
buildbin-summary.dcf | 28-Jul-2024 00:39 | 514 | ||
buildbin-out.txt | 28-Jul-2024 00:39 | 1.1K | ||
checksrc-summary.dcf | 28-Jul-2024 00:39 | 447 | ||
checksrc-out.txt | 28-Jul-2024 00:39 | 3.7K | ||
buildsrc-summary.dcf | 28-Jul-2024 00:39 | 452 | ||
buildsrc-out.txt | 28-Jul-2024 00:39 | 876 | ||
install-summary.dcf | 28-Jul-2024 00:39 | 268 | ||
install-out.txt | 28-Jul-2024 00:39 | 962 | ||