Name | Last modified | Size | Description | |
---|---|---|---|---|
Parent Directory | - | |||
install-summary.dcf | 28-Jul-2024 00:38 | 259 | ||
install-out.txt | 28-Jul-2024 00:38 | 952 | ||
checksrc-summary.dcf | 28-Jul-2024 00:38 | 414 | ||
checksrc-out.txt | 28-Jul-2024 00:38 | 4.0K | ||
buildsrc-summary.dcf | 28-Jul-2024 00:38 | 424 | ||
buildsrc-out.txt | 28-Jul-2024 00:38 | 870 | ||