Name | Last modified | Size | Description | |
---|---|---|---|---|
Parent Directory | - | |||
install-summary.dcf | 27-Jul-2024 00:41 | 269 | ||
buildsrc-summary.dcf | 27-Jul-2024 00:41 | 427 | ||
checksrc-summary.dcf | 27-Jul-2024 00:41 | 444 | ||
buildbin-summary.dcf | 27-Jul-2024 00:41 | 530 | ||
buildsrc-out.txt | 27-Jul-2024 00:41 | 856 | ||
install-out.txt | 27-Jul-2024 00:41 | 1.0K | ||
buildbin-out.txt | 27-Jul-2024 00:41 | 1.1K | ||
checksrc-out.txt | 27-Jul-2024 00:41 | 4.0K | ||