Back to Multiple platform build/check report for BioC 3.15
ABCDEF[G]HIJKLMNOPQRSTUVWXYZ

This page was generated on 2022-01-25 11:07:21 -0500 (Tue, 25 Jan 2022).

HostnameOSArch (*)R versionInstalled pkgs
nebbiolo1Linux (Ubuntu 20.04.4 LTS)x86_64R Under development (unstable) (2022-01-05 r81451) -- "Unsuffered Consequences" 4164
riesling1Windows Server 2019 Standardx64R Under development (unstable) (2021-11-21 r81221) -- "Unsuffered Consequences" 4059
palomino3Windows Server 2022 Datacenterx64R Under development (unstable) (2021-12-21 r81400 ucrt) -- "Unsuffered Consequences" 4001
merida1macOS 10.14.6 Mojavex86_64R Under development (unstable) (2022-01-05 r81451) -- "Unsuffered Consequences" 4118
Click on any hostname to see more info about the system (e.g. compilers)      (*) as reported by 'uname -p', except on Windows and Mac OS X

BUILD BIN results for gespeR on riesling1


To the developers/maintainers of the gespeR package:
- Please allow up to 24 hours (and sometimes 48 hours) for your latest push to git@git.bioconductor.org:packages/gespeR.git to
reflect on this report. See How and When does the builder pull? When will my changes propagate? here for more information.
- Make sure to use the following settings in order to reproduce any error or warning you see on this page.

raw results

Package 768/2075HostnameOS / ArchINSTALLBUILDCHECKBUILD BIN
gespeR 1.27.0  (landing page)
Fabian Schmich
Snapshot Date: 2022-01-24 13:55:18 -0500 (Mon, 24 Jan 2022)
git_url: https://git.bioconductor.org/packages/gespeR
git_branch: master
git_last_commit: 323e0ef
git_last_commit_date: 2021-10-26 12:18:18 -0500 (Tue, 26 Oct 2021)
nebbiolo1Linux (Ubuntu 20.04.4 LTS) / x86_64  OK    OK    WARNINGS  UNNEEDED, same version is already published
riesling1Windows Server 2019 Standard / x64  OK    OK    WARNINGS    OK  
palomino3Windows Server 2022 Datacenter / x64  OK    OK    WARNINGS    OK  NO, package depends on 'cellHTS2' which is not available
merida1macOS 10.14.6 Mojave / x86_64  OK    OK    WARNINGS    OK  UNNEEDED, same version is already published

Summary

Package: gespeR
Version: 1.27.0
Command: rm -rf gespeR.buildbin-libdir && mkdir gespeR.buildbin-libdir && D:\biocbuild\bbs-3.15-bioc\R\bin\R.exe CMD INSTALL --build --library=gespeR.buildbin-libdir gespeR_1.27.0.tar.gz
StartedAt: 2022-01-24 20:55:13 -0500 (Mon, 24 Jan 2022)
EndedAt: 2022-01-24 20:56:16 -0500 (Mon, 24 Jan 2022)
EllapsedTime: 63.8 seconds
RetCode: 0
Status:   OK  
PackageFile: gespeR_1.27.0.zip
PackageFileSize: 2.852 MiB

Command output

##############################################################################
##############################################################################
###
### Running command:
###
###   rm -rf gespeR.buildbin-libdir && mkdir gespeR.buildbin-libdir && D:\biocbuild\bbs-3.15-bioc\R\bin\R.exe CMD INSTALL --build --library=gespeR.buildbin-libdir gespeR_1.27.0.tar.gz
###
##############################################################################
##############################################################################


* installing *source* package 'gespeR' ...
** using staged installation
** R
** data
** inst
** byte-compile and prepare package for lazy loading
** help
*** installing help indices
  converting help for package 'gespeR'
    finding HTML links ... done
    Phenotypes-class                        html  
    TargetRelations-class                   html  
    annotate.gsp-methods                    html  
    as.data.frame-Phenotypes-method         html  
    as.data.frame.concordance               html  
    c-Phenotypes-method                     html  
    concordance                             html  
    dim-Phenotypes-method                   html  
    gespeR-class                            html  
    finding level-2 HTML links ... done

    gespeR-package                          html  
    gspssp-methods                          html  
    join-methods                            html  
    lasso.rand                              html  
    na.rem-methods                          html  
    path-methods                            html  
    plot.Phenotypes                         html  
    plot.concordance                        html  
    plot.gespeR                             html  
    rbo                                     html  
    scores-methods                          html  
    simData                                 html  
    stability-methods                       html  
    stability.selection                     html  
    stabilityfits                           html  
    sub-Phenotypes-ANY-ANY-ANY-method       html  
    sub-TargetRelations-ANY-ANY-ANY-method
                                            html  
    target-relations-methods                html  
    trmatrix-methods                        html  
    values-methods                          html  
** building package indices
** installing vignettes
** testing if installed package can be loaded from temporary location
** testing if installed package can be loaded from final location
** testing if installed package keeps a record of temporary installation path
* MD5 sums
packaged installation of 'gespeR' as gespeR_1.27.0.zip
* DONE (gespeR)