Index of /checkResults/devel/bioc-LATEST/gespeR/raw-results/merida1
Name
Last modified
Size
Description
Parent Directory
-
buildsrc-out.txt
02-May-2024 00:40
886
buildsrc-summary.dcf
02-May-2024 00:40
340
install-out.txt
02-May-2024 00:40
693
install-summary.dcf
02-May-2024 00:40
269