Index of /checkResults/devel/bioc-LATEST/gespeR/raw-results/kunpeng2
Name
Last modified
Size
Description
Parent Directory
-
install-out.txt
29-Mar-2024 00:40
1.0K
install-summary.dcf
29-Mar-2024 00:40
266
buildsrc-summary.dcf
29-Mar-2024 00:40
340
buildsrc-out.txt
29-Mar-2024 00:40
1.3K