Index of /checkResults/devel/bioc-LATEST/gespeR/raw-results/kunpeng2
Name
Last modified
Size
Description
Parent Directory
-
buildsrc-out.txt
28-Mar-2024 00:40
1.3K
buildsrc-summary.dcf
28-Mar-2024 00:40
340
install-out.txt
28-Mar-2024 00:40
1.0K
install-summary.dcf
28-Mar-2024 00:40
266