Index of /checkResults/devel/bioc-LATEST/gespeR/raw-results/kjohnson3
Name
Last modified
Size
Description
Parent Directory
-
buildsrc-summary.dcf
13-Jul-2024 01:34
340
buildsrc-out.txt
13-Jul-2024 01:34
931
install-out.txt
13-Jul-2024 01:34
691
install-summary.dcf
13-Jul-2024 01:34
269