Index of /checkResults/devel/bioc-LATEST/gespeR/raw-results/kjohnson1
Name
Last modified
Size
Description
Parent Directory
-
buildsrc-out.txt
12-Jun-2024 04:43
887
buildsrc-summary.dcf
12-Jun-2024 04:43
340
install-out.txt
12-Jun-2024 04:43
691
install-summary.dcf
12-Jun-2024 04:43
269