Back to Multiple platform build/check report for BioC 3.15
ABCDEF[G]HIJKLMNOPQRSTUVWXYZ

This page was generated on 2022-01-25 11:07:20 -0500 (Tue, 25 Jan 2022).

HostnameOSArch (*)R versionInstalled pkgs
nebbiolo1Linux (Ubuntu 20.04.4 LTS)x86_64R Under development (unstable) (2022-01-05 r81451) -- "Unsuffered Consequences" 4164
riesling1Windows Server 2019 Standardx64R Under development (unstable) (2021-11-21 r81221) -- "Unsuffered Consequences" 4059
palomino3Windows Server 2022 Datacenterx64R Under development (unstable) (2021-12-21 r81400 ucrt) -- "Unsuffered Consequences" 4001
merida1macOS 10.14.6 Mojavex86_64R Under development (unstable) (2022-01-05 r81451) -- "Unsuffered Consequences" 4118
Click on any hostname to see more info about the system (e.g. compilers)      (*) as reported by 'uname -p', except on Windows and Mac OS X

INSTALL results for genotypeeval on riesling1


To the developers/maintainers of the genotypeeval package:
- Please allow up to 24 hours (and sometimes 48 hours) for your latest push to git@git.bioconductor.org:packages/genotypeeval.git to
reflect on this report. See How and When does the builder pull? When will my changes propagate? here for more information.
- Make sure to use the following settings in order to reproduce any error or warning you see on this page.

raw results

Package 757/2075HostnameOS / ArchINSTALLBUILDCHECKBUILD BIN
genotypeeval 1.27.0  (landing page)
Jennifer Tom
Snapshot Date: 2022-01-24 13:55:18 -0500 (Mon, 24 Jan 2022)
git_url: https://git.bioconductor.org/packages/genotypeeval
git_branch: master
git_last_commit: 4ce3be2
git_last_commit_date: 2021-10-26 12:21:35 -0500 (Tue, 26 Oct 2021)
nebbiolo1Linux (Ubuntu 20.04.4 LTS) / x86_64  OK    OK    WARNINGS  UNNEEDED, same version is already published
riesling1Windows Server 2019 Standard / x64  OK    OK    WARNINGS    OK  
palomino3Windows Server 2022 Datacenter / x64  OK    OK    WARNINGS    OK  NO, package depends on 'VariantAnnotation' which is not available
merida1macOS 10.14.6 Mojave / x86_64  OK    OK    WARNINGS    OK  UNNEEDED, same version is already published

Summary

Package: genotypeeval
Version: 1.27.0
Command: D:\biocbuild\bbs-3.15-bioc\R\bin\R.exe CMD INSTALL genotypeeval
StartedAt: 2022-01-24 16:06:22 -0500 (Mon, 24 Jan 2022)
EndedAt: 2022-01-24 16:07:20 -0500 (Mon, 24 Jan 2022)
EllapsedTime: 58.1 seconds
RetCode: 0
Status:   OK  

Command output

##############################################################################
##############################################################################
###
### Running command:
###
###   D:\biocbuild\bbs-3.15-bioc\R\bin\R.exe CMD INSTALL genotypeeval
###
##############################################################################
##############################################################################


* installing to library 'D:/biocbuild/bbs-3.15-bioc/R/library'
* installing *source* package 'genotypeeval' ...
** using staged installation
** R
** inst
** byte-compile and prepare package for lazy loading
** help
*** installing help indices
  converting help for package 'genotypeeval'
    finding HTML links ... done
    GoldData-class                          html  
    GoldDataFromGRanges                     html  
    GoldDataParam-class                     html  
    GoldDataParam                           html  
    ReadGoldData                            html  
    ReadVCFData                             html  
    ReadVCFDataChunk                        html  
    VCFData-class                           html  
    VCFEvaluate                             html  
    VCFQAParam-class                        html  
    VCFQAParam                              html  
    VCFQAReport-class                       html  
    XHeterozygosity                         html  
    admixture                               html  
    callbyChrPlot                           html  
    calltypePlot                            html  
    chunkData                               html  
    computeTiTv                             html  
    didSamplePass                           html  
    didSamplePassOverall                    html  
    genotypeQualityPlot                     html  
    getCoefs                                html  
    getDescriptors                          html  
    getName                                 html  
    getPlots                                html  
    getResults                              html  
    getVR                                   html  
    goldCompare                             html  
    hetGap                                  html  
    hetsMasked                              html  
    homrefPlot                              html  
    meanGQ                                  html  
    myf                                     html  
    numberCalls                             html  
    numberOfHets                            html  
    numberOfHomRefs                         html  
    numberOfHomVars                         html  
    percentHets                             html  
    percentInTarget                         html  
    rareCompare                             html  
    readDepth                               html  
    readVcfGold                             html  
    readdepthPlot                           html  
    reformatData                            html  
    titv                                    html  
** building package indices
** installing vignettes
** testing if installed package can be loaded from temporary location
** testing if installed package can be loaded from final location
** testing if installed package keeps a record of temporary installation path
* DONE (genotypeeval)
Making 'packages.html' ... done