Back to Multiple platform build/check report for BioC 3.17
ABCDEF[G]HIJKLMNOPQRSTUVWXYZ

This page was generated on 2022-11-26 11:09:09 -0500 (Sat, 26 Nov 2022).

HostnameOSArch (*)R versionInstalled pkgs
nebbiolo1Linux (Ubuntu 20.04.5 LTS)x86_64R Under development (unstable) (2022-10-25 r83175) -- "Unsuffered Consequences" 4462
palomino3Windows Server 2022 Datacenterx64R Under development (unstable) (2022-10-11 r83083 ucrt) -- "Unsuffered Consequences" 4201
merida1macOS 10.14.6 Mojavex86_64R Under development (unstable) (2022-11-13 r83342) -- "Unsuffered Consequences" 4231
Click on any hostname to see more info about the system (e.g. compilers)      (*) as reported by 'uname -p', except on Windows and Mac OS X

BUILD BIN results for genotypeeval on merida1


To the developers/maintainers of the genotypeeval package:
- Please allow up to 24 hours (and sometimes 48 hours) for your latest push to git@git.bioconductor.org:packages/genotypeeval.git to
reflect on this report. See How and When does the builder pull? When will my changes propagate? for more information.
- Make sure to use the following settings in order to reproduce any error or warning you see on this page.

raw results

Package 782/2154HostnameOS / ArchINSTALLBUILDCHECKBUILD BIN
genotypeeval 1.31.0  (landing page)
Jennifer Tom
Snapshot Date: 2022-11-25 14:00:12 -0500 (Fri, 25 Nov 2022)
git_url: https://git.bioconductor.org/packages/genotypeeval
git_branch: master
git_last_commit: 5e3f17e
git_last_commit_date: 2022-11-01 11:11:55 -0500 (Tue, 01 Nov 2022)
nebbiolo1Linux (Ubuntu 20.04.5 LTS) / x86_64  OK    OK    ERROR  
palomino3Windows Server 2022 Datacenter / x64  OK    OK    ERROR    OK  
merida1macOS 10.14.6 Mojave / x86_64  OK    OK    ERROR    OK  

Summary

Package: genotypeeval
Version: 1.31.0
Command: rm -rf genotypeeval.buildbin-libdir && mkdir genotypeeval.buildbin-libdir && /Users/biocbuild/BBS/utils/build-universal.sh genotypeeval_1.31.0.tar.gz /Library/Frameworks/R.framework/Resources/bin/R genotypeeval.buildbin-libdir
StartedAt: 2022-11-26 08:27:02 -0500 (Sat, 26 Nov 2022)
EndedAt: 2022-11-26 08:30:10 -0500 (Sat, 26 Nov 2022)
EllapsedTime: 187.8 seconds
RetCode: 0
Status:   OK  
PackageFile: genotypeeval_1.31.0.tgz
PackageFileSize: 550 KiB

Command output

##############################################################################
##############################################################################
###
### Running command:
###
###   rm -rf genotypeeval.buildbin-libdir && mkdir genotypeeval.buildbin-libdir && /Users/biocbuild/BBS/utils/build-universal.sh genotypeeval_1.31.0.tar.gz /Library/Frameworks/R.framework/Resources/bin/R genotypeeval.buildbin-libdir
###
##############################################################################
##############################################################################


>>>>>>> 
>>>>>>> INSTALLATION WITH 'R CMD INSTALL --preclean --no-multiarch --library=genotypeeval.buildbin-libdir genotypeeval_1.31.0.tar.gz'
>>>>>>> 

* installing *source* package ‘genotypeeval’ ...
** using staged installation
** R
** inst
** byte-compile and prepare package for lazy loading
** help
*** installing help indices
** building package indices
** installing vignettes
** testing if installed package can be loaded from temporary location
** testing if installed package can be loaded from final location
** testing if installed package keeps a record of temporary installation path
* DONE (genotypeeval)