Index of /checkResults/devel/bioc-LATEST/genomicInstability/raw-results/nebbiolo2

[ICO]NameLast modifiedSizeDescription

[DIR]Parent Directory  -  
[TXT]buildsrc-out.txt01-Jul-2022 00:05 912  
[   ]buildsrc-summary.dcf01-Jul-2022 00:05 449  
[TXT]checksrc-out.txt01-Jul-2022 00:05 7.5K 
[   ]checksrc-summary.dcf01-Jul-2022 00:05 466  
[TXT]install-out.txt01-Jul-2022 00:05 1.0K 
[   ]install-summary.dcf01-Jul-2022 00:05 280