Name | Last modified | Size | Description | |
---|---|---|---|---|
Parent Directory | - | |||
install-summary.dcf | 18-May-2024 00:38 | 291 | ||
install-out.txt | 18-May-2024 00:38 | 1.0K | ||
checksrc-summary.dcf | 18-May-2024 00:38 | 488 | ||
checksrc-out.txt | 18-May-2024 00:38 | 7.8K | ||
buildsrc-summary.dcf | 18-May-2024 00:38 | 461 | ||
buildsrc-out.txt | 18-May-2024 00:38 | 923 | ||
buildbin-summary.dcf | 18-May-2024 00:38 | 596 | ||
buildbin-out.txt | 18-May-2024 00:38 | 1.2K | ||