Index of /checkResults/devel/bioc-LATEST/genomicInstability/raw-results/lconway

[ICO]NameLast modifiedSizeDescription

[DIR]Parent Directory  -  
[   ]install-summary.dcf18-Aug-2022 00:08 290  
[   ]buildsrc-summary.dcf18-Aug-2022 00:08 458  
[   ]checksrc-summary.dcf18-Aug-2022 00:08 486  
[   ]buildbin-summary.dcf18-Aug-2022 00:08 593  
[TXT]buildsrc-out.txt18-Aug-2022 00:08 922  
[TXT]install-out.txt18-Aug-2022 00:08 1.0K 
[TXT]buildbin-out.txt18-Aug-2022 00:08 1.2K 
[TXT]checksrc-out.txt18-Aug-2022 00:08 7.6K