Index of /checkResults/devel/bioc-LATEST/genomation/raw-results/palomino4

[ICO]NameLast modifiedSizeDescription

[DIR]Parent Directory  -  
[TXT]buildbin-out.txt02-Jul-2022 00:06 2.3K 
[   ]buildbin-summary.dcf02-Jul-2022 00:06 551  
[TXT]buildsrc-out.txt02-Jul-2022 00:06 1.3K 
[   ]buildsrc-summary.dcf02-Jul-2022 00:06 464  
[TXT]checksrc-out.txt02-Jul-2022 00:06 4.6K 
[   ]checksrc-summary.dcf02-Jul-2022 00:06 468  
[TXT]install-out.txt02-Jul-2022 00:06 3.0K 
[   ]install-summary.dcf02-Jul-2022 00:06 655