![]() | Name | Last modified | Size | Description |
---|---|---|---|---|
![]() | Parent Directory | - | ||
![]() | install-out.txt | 14-Aug-2022 00:05 | 2.0K | |
![]() | install-summary.dcf | 14-Aug-2022 00:05 | 265 | |
![]() | buildsrc-out.txt | 14-Aug-2022 00:05 | 1.2K | |
![]() | buildsrc-summary.dcf | 14-Aug-2022 00:05 | 426 | |
![]() | checksrc-out.txt | 14-Aug-2022 00:05 | 4.2K | |
![]() | checksrc-summary.dcf | 14-Aug-2022 00:05 | 442 | |