Index of /checkResults/devel/bioc-LATEST/geneplotter/raw-results/palomino4

[ICO]NameLast modifiedSizeDescription

[DIR]Parent Directory  -  
[TXT]buildbin-out.txt25-Jun-2022 00:06 1.2K 
[   ]buildbin-summary.dcf25-Jun-2022 00:06 557  
[TXT]buildsrc-out.txt25-Jun-2022 00:06 919  
[   ]buildsrc-summary.dcf25-Jun-2022 00:06 468  
[TXT]checksrc-out.txt25-Jun-2022 00:06 4.0K 
[   ]checksrc-summary.dcf25-Jun-2022 00:06 466  
[TXT]install-out.txt25-Jun-2022 00:06 1.9K 
[   ]install-summary.dcf25-Jun-2022 00:06 664