Name | Last modified | Size | Description | |
---|---|---|---|---|
Parent Directory | - | |||
checksrc-summary.dcf | 28-Jul-2024 00:38 | 430 | ||
checksrc-out.txt | 28-Jul-2024 00:38 | 4.1K | ||
buildsrc-summary.dcf | 28-Jul-2024 00:38 | 435 | ||
buildsrc-out.txt | 28-Jul-2024 00:38 | 909 | ||
install-summary.dcf | 28-Jul-2024 00:38 | 267 | ||
install-out.txt | 28-Jul-2024 00:38 | 972 | ||