Index of /checkResults/devel/bioc-LATEST/geneplotter/raw-results

[ICO]NameLast modifiedSizeDescription

[DIR]Parent Directory  -  
[   ]info.dcf02-Jul-2022 00:07 299  
[DIR]lconway/02-Jul-2022 00:07 -  
[DIR]nebbiolo2/02-Jul-2022 00:04 -  
[DIR]palomino4/02-Jul-2022 00:06 -