Name | Last modified | Size | Description | |
---|---|---|---|---|
Parent Directory | - | |||
buildbin-out.txt | 12-Jun-2024 04:40 | 1.1K | ||
buildbin-summary.dcf | 12-Jun-2024 04:40 | 527 | ||
buildsrc-out.txt | 12-Jun-2024 04:40 | 909 | ||
buildsrc-summary.dcf | 12-Jun-2024 04:40 | 460 | ||
checksrc-out.txt | 12-Jun-2024 04:40 | 3.6K | ||
checksrc-summary.dcf | 12-Jun-2024 04:40 | 455 | ||
install-out.txt | 12-Jun-2024 04:40 | 1.0K | ||
install-summary.dcf | 12-Jun-2024 04:40 | 272 | ||