Name | Last modified | Size | Description | |
---|---|---|---|---|
Parent Directory | - | |||
checksrc-out.txt | 17-Jul-2024 00:39 | 3.6K | ||
install-out.txt | 17-Jul-2024 00:39 | 966 | ||
buildsrc-out.txt | 17-Jul-2024 00:39 | 901 | ||
buildsrc-summary.dcf | 17-Jul-2024 00:39 | 429 | ||
checksrc-summary.dcf | 17-Jul-2024 00:39 | 421 | ||
install-summary.dcf | 17-Jul-2024 00:39 | 262 | ||