Name | Last modified | Size | Description | |
---|---|---|---|---|
Parent Directory | - | |||
install-summary.dcf | 07-Jul-2024 00:44 | 250 | ||
install-out.txt | 07-Jul-2024 00:44 | 948 | ||
checksrc-summary.dcf | 05-Jul-2024 00:44 | 412 | ||
checksrc-out.txt | 05-Jul-2024 00:44 | 3.7K | ||
buildsrc-summary.dcf | 09-Jul-2024 00:44 | 325 | ||
buildsrc-out.txt | 09-Jul-2024 00:44 | 1.2K | ||