Back to Multiple platform build/check report for BioC 3.14
ABCDEF[G]HIJKLMNOPQRSTUVWXYZ

This page was generated on 2021-10-20 12:05:09 -0400 (Wed, 20 Oct 2021).

BUILD BIN results for genefu on riesling1

To the developers/maintainers of the genefu package:
- Please allow up to 24 hours (and sometimes 48 hours) for your latest push to git@git.bioconductor.org:packages/genefu.git to
reflect on this report. See How and When does the builder pull? When will my changes propagate? here for more information.
- Make sure to use the following settings in order to reproduce any error or warning you see on this page.

raw results

Package 719/2072HostnameOS / ArchINSTALLBUILDCHECKBUILD BIN
genefu 2.25.1  (landing page)
Benjamin Haibe-Kains
Snapshot Date: 2021-10-19 14:50:04 -0400 (Tue, 19 Oct 2021)
git_url: https://git.bioconductor.org/packages/genefu
git_branch: master
git_last_commit: 8fce049
git_last_commit_date: 2021-05-21 19:08:16 -0400 (Fri, 21 May 2021)
nebbiolo2Linux (Ubuntu 20.04.2 LTS) / x86_64  OK    OK    OK  UNNEEDED, same version is already published
riesling1Windows Server 2019 Standard / x64  OK    OK    OK    OK  UNNEEDED, same version is already published
merida1macOS 10.14.6 Mojave / x86_64  OK    OK    OK    OK  UNNEEDED, same version is already published

Summary

Package: genefu
Version: 2.25.1
Command: rm -rf genefu.buildbin-libdir && mkdir genefu.buildbin-libdir && D:\biocbuild\bbs-3.14-bioc\R\bin\R.exe CMD INSTALL --merge-multiarch --build --library=genefu.buildbin-libdir genefu_2.25.1.tar.gz
StartedAt: 2021-10-20 06:08:52 -0400 (Wed, 20 Oct 2021)
EndedAt: 2021-10-20 06:13:12 -0400 (Wed, 20 Oct 2021)
EllapsedTime: 259.4 seconds
RetCode: 0
Status:   OK  
PackageFile: genefu_2.25.1.zip
PackageFileSize: 5.062 MiB

Command output

##############################################################################
##############################################################################
###
### Running command:
###
###   rm -rf genefu.buildbin-libdir && mkdir genefu.buildbin-libdir && D:\biocbuild\bbs-3.14-bioc\R\bin\R.exe CMD INSTALL --merge-multiarch --build --library=genefu.buildbin-libdir genefu_2.25.1.tar.gz
###
##############################################################################
##############################################################################



install for i386

* installing *source* package 'genefu' ...
** using staged installation
** R
** data
** inst
** byte-compile and prepare package for lazy loading
** help
*** installing help indices
  converting help for package 'genefu'
    finding HTML links ... done
    bimod                                   html  
    boxplotplus2                            html  
    claudinLow                              html  
    claudinLowData                          html  
    collapseIDs                             html  
    compareProtoCor                         html  
    compute.pairw.cor.meta                  html  
    compute.pairw.cor.z                     html  
    compute.proto.cor.meta                  html  
    cordiff.dep                             html  
    endoPredict                             html  
    expos                                   html  
    fuzzy.ttest                             html  
    gene70                                  html  
    gene76                                  html  
    geneid.map                              html  
    genius                                  html  
    ggi                                     html  
    ihc4                                    html  
    intrinsic.cluster                       html  
    intrinsic.cluster.predict               html  
    map.datasets                            html  
    medianCtr                               html  
    mod1                                    html  
    mod2                                    html  
    modelOvcAngiogenic                      html  
    molecular.subtyping                     html  
    nkis                                    html  
    npi                                     html  
    oncotypedx                              html  
    ovcAngiogenic                           html  
    ovcCrijns                               html  
    ovcTCGA                                 html  
    ovcYoshihara                            html  
    overlapSets                             html  
    pam50                                   html  
    pik3cags                                html  
    power.cor                               html  
    ps.cluster                              html  
    read.m.file                             html  
    readArray                               html  
    rename.duplicate                        html  
    rescale                                 html  
    rorS                                    html  
    scmgene.robust                          html  
    scmod1.robust                           html  
    scmod2.robust                           html  
    setcolclass.df                          html  
    sig.endoPredict                         html  
    sig.gene70                              html  
    sig.gene76                              html  
    sig.genius                              html  
    sig.ggi                                 html  
    sig.oncotypedx                          html  
    sig.pik3cags                            html  
    sig.score                               html  
    sig.tamr13                              html  
    sigOvcAngiogenic                        html  
    sigOvcCrijns                            html  
    sigOvcSpentzos                          html  
    sigOvcTCGA                              html  
    sigOvcYoshihara                         html  
    spearmanCI                              html  
    ssp2003                                 html  
    ssp2006                                 html  
    st.gallen                               html  
    stab.fs                                 html  
    stab.fs.ranking                         html  
    strescR                                 html  
    subtype.cluster                         html  
    subtype.cluster.predict                 html  
    tamr13                                  html  
    tbrm                                    html  
    vdxs                                    html  
    weighted.meanvar                        html  
    write.m.file                            html  
** building package indices
** installing vignettes
** testing if installed package can be loaded from temporary location
** testing if installed package can be loaded from final location
** testing if installed package keeps a record of temporary installation path

install for x64

* installing *source* package 'genefu' ...
** testing if installed package can be loaded
* MD5 sums
packaged installation of 'genefu' as genefu_2.25.1.zip
* DONE (genefu)