Back to Multiple platform build/check report for BioC 3.15
ABCDEF[G]HIJKLMNOPQRSTUVWXYZ

This page was generated on 2022-01-26 11:07:43 -0500 (Wed, 26 Jan 2022).

HostnameOSArch (*)R versionInstalled pkgs
nebbiolo1Linux (Ubuntu 20.04.4 LTS)x86_64R Under development (unstable) (2022-01-05 r81451) -- "Unsuffered Consequences" 4164
riesling1Windows Server 2019 Standardx64R Under development (unstable) (2021-11-21 r81221) -- "Unsuffered Consequences" 4059
palomino3Windows Server 2022 Datacenterx64R Under development (unstable) (2021-12-21 r81400 ucrt) -- "Unsuffered Consequences" 4001
merida1macOS 10.14.6 Mojavex86_64R Under development (unstable) (2022-01-05 r81451) -- "Unsuffered Consequences" 4118
Click on any hostname to see more info about the system (e.g. compilers)      (*) as reported by 'uname -p', except on Windows and Mac OS X

INSTALL results for genefilter on riesling1


To the developers/maintainers of the genefilter package:
- Please allow up to 24 hours (and sometimes 48 hours) for your latest push to git@git.bioconductor.org:packages/genefilter.git to
reflect on this report. See How and When does the builder pull? When will my changes propagate? here for more information.
- Make sure to use the following settings in order to reproduce any error or warning you see on this page.

raw results

Package 719/2075HostnameOS / ArchINSTALLBUILDCHECKBUILD BIN
genefilter 1.77.0  (landing page)
Bioconductor Package Maintainer
Snapshot Date: 2022-01-25 13:55:17 -0500 (Tue, 25 Jan 2022)
git_url: https://git.bioconductor.org/packages/genefilter
git_branch: master
git_last_commit: 7911602
git_last_commit_date: 2021-10-26 11:45:31 -0500 (Tue, 26 Oct 2021)
nebbiolo1Linux (Ubuntu 20.04.4 LTS) / x86_64  OK    OK    WARNINGS  UNNEEDED, same version is already published
riesling1Windows Server 2019 Standard / x64  OK    OK    WARNINGS    OK  
palomino3Windows Server 2022 Datacenter / x64  OK    OK    WARNINGS    OK  NO, package depends on 'BiocGenerics' which is not available
merida1macOS 10.14.6 Mojave / x86_64  OK    OK    OK    OK  UNNEEDED, same version is already published

Summary

Package: genefilter
Version: 1.77.0
Command: D:\biocbuild\bbs-3.15-bioc\R\bin\R.exe CMD INSTALL genefilter
StartedAt: 2022-01-25 15:53:28 -0500 (Tue, 25 Jan 2022)
EndedAt: 2022-01-25 15:54:36 -0500 (Tue, 25 Jan 2022)
EllapsedTime: 68.1 seconds
RetCode: 0
Status:   OK  

Command output

##############################################################################
##############################################################################
###
### Running command:
###
###   D:\biocbuild\bbs-3.15-bioc\R\bin\R.exe CMD INSTALL genefilter
###
##############################################################################
##############################################################################


* installing to library 'D:/biocbuild/bbs-3.15-bioc/R/library'
* installing *source* package 'genefilter' ...
** using staged installation
** libs
"C:/rtools40/mingw64/bin/"g++ -std=gnu++11  -I"D:/biocbuild/bbs-3.15-bioc/R/include" -DNDEBUG     -I"C:/extsoft/include"     -O2 -Wall  -mfpmath=sse -msse2 -mstackrealign -fno-reorder-blocks-and-partition  -c half_range_mode.cpp -o half_range_mode.o
"C:/rtools40/mingw64/bin/"gcc  -I"D:/biocbuild/bbs-3.15-bioc/R/include" -DNDEBUG     -I"C:/extsoft/include"     -O2 -Wall  -std=gnu99 -mfpmath=sse -msse2 -mstackrealign -fno-reorder-blocks-and-partition  -c init.c -o init.o
"C:/rtools40/mingw64/bin/"gcc  -I"D:/biocbuild/bbs-3.15-bioc/R/include" -DNDEBUG     -I"C:/extsoft/include"     -O2 -Wall  -std=gnu99 -mfpmath=sse -msse2 -mstackrealign -fno-reorder-blocks-and-partition  -c nd.c -o nd.o
"C:/rtools40/mingw64/bin/"gcc  -I"D:/biocbuild/bbs-3.15-bioc/R/include" -DNDEBUG     -I"C:/extsoft/include"     -O2 -Wall  -std=gnu99 -mfpmath=sse -msse2 -mstackrealign -fno-reorder-blocks-and-partition  -c pAUC.c -o pAUC.o
pAUC.c: In function 'pAUC':
pAUC.c:140:13: warning: suggest parentheses around comparison in operand of '|' [-Wparentheses]
     if(rows != INTEGER(dimSens)[1] | columns != INTEGER(dimSens)[0])
        ~~~~~^~~~~~~~~~~~~~~~~~~~~~
"C:/rtools40/mingw64/bin/"gcc  -I"D:/biocbuild/bbs-3.15-bioc/R/include" -DNDEBUG     -I"C:/extsoft/include"     -O2 -Wall  -std=gnu99 -mfpmath=sse -msse2 -mstackrealign -fno-reorder-blocks-and-partition  -c rowPAUCs.c -o rowPAUCs.o
"C:/rtools40/mingw64/bin/"gcc  -I"D:/biocbuild/bbs-3.15-bioc/R/include" -DNDEBUG     -I"C:/extsoft/include"     -O2 -Wall  -std=gnu99 -mfpmath=sse -msse2 -mstackrealign -fno-reorder-blocks-and-partition  -c rowttests.c -o rowttests.o
"C:/rtools40/mingw64/bin/"gfortran  -fno-optimize-sibling-calls    -O2  -mfpmath=sse -msse2 -mstackrealign -fno-reorder-blocks-and-partition  -c ttest.f -o ttest.o
C:/rtools40/mingw64/bin/g++ -std=gnu++11 -shared -s -static-libgcc -o genefilter.dll tmp.def half_range_mode.o init.o nd.o pAUC.o rowPAUCs.o rowttests.o ttest.o -LC:/extsoft/lib/x64 -LC:/extsoft/lib -lgfortran -lm -lquadmath -LD:/biocbuild/bbs-3.15-bioc/R/bin/x64 -lR
installing to D:/biocbuild/bbs-3.15-bioc/R/library/00LOCK-genefilter/00new/genefilter/libs/x64
** R
** data
*** moving datasets to lazyload DB
** inst
** byte-compile and prepare package for lazy loading
** help
*** installing help indices
  converting help for package 'genefilter'
    finding HTML links ... done
    Anova                                   html  
    coxfilter                               html  
    cv                                      html  
    deprecated                              html  
    dist2                                   html  
    eSetFilter                              html  
    filter_volcano                          html  
    filtered_p                              html  
    filterfun                               html  
    findLargest                             html  
    gapFilter                               html  
    genefilter                              html  
    genefinder                              html  
    genescale                               html  
    half.range.mode                         html  
    kOverA                                  html  
    kappa_p                                 html  
    maxA                                    html  
    nsFilter                                html  
    pOverA                                  html  
    rejection_plot                          html  
    rowFtests                               html  
    rowROC-class                            html  
    rowSds                                  html  
    rowpAUCs                                html  
    shorth                                  html  
    tdata                                   html  
    ttest                                   html  
** building package indices
** installing vignettes
** testing if installed package can be loaded from temporary location
** testing if installed package can be loaded from final location
** testing if installed package keeps a record of temporary installation path
* DONE (genefilter)
Making 'packages.html' ... done