Back to Multiple platform build/check report for BioC 3.15
ABCDEF[G]HIJKLMNOPQRSTUVWXYZ

This page was generated on 2022-01-21 11:07:36 -0500 (Fri, 21 Jan 2022).

HostnameOSArch (*)R versionInstalled pkgs
nebbiolo1Linux (Ubuntu 20.04.4 LTS)x86_64R Under development (unstable) (2022-01-05 r81451) -- "Unsuffered Consequences" 4163
riesling1Windows Server 2019 Standardx64R Under development (unstable) (2021-11-21 r81221) -- "Unsuffered Consequences" 4058
palomino3Windows Server 2022 Datacenterx64R Under development (unstable) (2021-12-21 r81400 ucrt) -- "Unsuffered Consequences" 4000
merida1macOS 10.14.6 Mojavex86_64R Under development (unstable) (2022-01-05 r81451) -- "Unsuffered Consequences" 4117
Click on any hostname to see more info about the system (e.g. compilers)      (*) as reported by 'uname -p', except on Windows and Mac OS X

BUILD results for geneXtendeR on riesling1


To the developers/maintainers of the geneXtendeR package:
- Please allow up to 24 hours (and sometimes 48 hours) for your latest push to git@git.bioconductor.org:packages/geneXtendeR.git to
reflect on this report. See How and When does the builder pull? When will my changes propagate? here for more information.
- Make sure to use the following settings in order to reproduce any error or warning you see on this page.

raw results

Package 737/2075HostnameOS / ArchINSTALLBUILDCHECKBUILD BIN
geneXtendeR 1.21.0  (landing page)
Bohdan Khomtchouk
Snapshot Date: 2022-01-20 13:55:17 -0500 (Thu, 20 Jan 2022)
git_url: https://git.bioconductor.org/packages/geneXtendeR
git_branch: master
git_last_commit: 63b6b7a
git_last_commit_date: 2021-10-26 12:30:30 -0500 (Tue, 26 Oct 2021)
nebbiolo1Linux (Ubuntu 20.04.4 LTS) / x86_64  OK    OK    WARNINGS  UNNEEDED, same version is already published
riesling1Windows Server 2019 Standard / x64  OK    OK    WARNINGS    OK  
palomino3Windows Server 2022 Datacenter / x64  OK    OK    WARNINGS    OK  NO, package depends on 'rtracklayer' which is not available
merida1macOS 10.14.6 Mojave / x86_64  OK    OK    WARNINGS    OK  UNNEEDED, same version is already published

Summary

Package: geneXtendeR
Version: 1.21.0
Command: chmod a+r geneXtendeR -R && D:\biocbuild\bbs-3.15-bioc\R\bin\R.exe CMD build --keep-empty-dirs --no-resave-data geneXtendeR
StartedAt: 2022-01-20 16:48:30 -0500 (Thu, 20 Jan 2022)
EndedAt: 2022-01-20 16:48:36 -0500 (Thu, 20 Jan 2022)
EllapsedTime: 5.6 seconds
RetCode: 0
Status:   OK  
PackageFile: geneXtendeR_1.21.0.tar.gz
PackageFileSize: 11.74 MiB

Command output

##############################################################################
##############################################################################
###
### Running command:
###
###   chmod a+r geneXtendeR -R && D:\biocbuild\bbs-3.15-bioc\R\bin\R.exe CMD build --keep-empty-dirs --no-resave-data geneXtendeR
###
##############################################################################
##############################################################################


* checking for file 'geneXtendeR/DESCRIPTION' ... OK
* preparing 'geneXtendeR':
* checking DESCRIPTION meta-information ... OK
* cleaning src
* checking for LF line-endings in source and make files and shell scripts
* checking for empty or unneeded directories
* building 'geneXtendeR_1.21.0.tar.gz'