Name | Last modified | Size | Description | |
---|---|---|---|---|
Parent Directory | - | |||
buildbin-out.txt | 05-Mar-2024 01:39 | 7.6K | ||
buildbin-summary.dcf | 05-Mar-2024 01:39 | 555 | ||
buildsrc-out.txt | 05-Mar-2024 01:39 | 775 | ||
buildsrc-summary.dcf | 05-Mar-2024 01:39 | 438 | ||
checksrc-out.txt | 05-Mar-2024 01:39 | 8.7K | ||
checksrc-summary.dcf | 05-Mar-2024 01:39 | 467 | ||
install-out.txt | 05-Mar-2024 01:39 | 5.6K | ||
install-summary.dcf | 05-Mar-2024 01:39 | 278 | ||