Name | Last modified | Size | Description | |
---|---|---|---|---|
Parent Directory | - | |||
buildbin-out.txt | 02-May-2024 00:36 | 7.6K | ||
buildbin-summary.dcf | 02-May-2024 00:36 | 554 | ||
buildsrc-out.txt | 02-May-2024 00:36 | 775 | ||
buildsrc-summary.dcf | 02-May-2024 00:36 | 438 | ||
checksrc-out.txt | 02-May-2024 00:36 | 8.7K | ||
checksrc-summary.dcf | 02-May-2024 00:36 | 466 | ||
install-out.txt | 02-May-2024 00:36 | 5.6K | ||
install-summary.dcf | 02-May-2024 00:36 | 277 | ||