Name | Last modified | Size | Description | |
---|---|---|---|---|
Parent Directory | - | |||
buildsrc-out.txt | 30-Apr-2024 00:40 | 776 | ||
buildsrc-summary.dcf | 30-Apr-2024 00:40 | 439 | ||
checksrc-out.txt | 30-Apr-2024 00:40 | 9.0K | ||
checksrc-summary.dcf | 30-Apr-2024 00:40 | 471 | ||
install-out.txt | 30-Apr-2024 00:40 | 7.2K | ||
install-summary.dcf | 30-Apr-2024 00:40 | 278 | ||