![]() | Name | Last modified | Size | Description |
---|---|---|---|---|
![]() | Parent Directory | - | ||
![]() | buildbin-out.txt | 28-Sep-2023 00:37 | 2.2K | |
![]() | buildbin-summary.dcf | 28-Sep-2023 00:37 | 551 | |
![]() | buildsrc-out.txt | 28-Sep-2023 00:37 | 901 | |
![]() | buildsrc-summary.dcf | 28-Sep-2023 00:37 | 476 | |
![]() | checksrc-out.txt | 28-Sep-2023 00:37 | 7.1K | |
![]() | checksrc-summary.dcf | 28-Sep-2023 00:37 | 470 | |
![]() | install-out.txt | 28-Sep-2023 00:37 | 2.0K | |
![]() | install-summary.dcf | 28-Sep-2023 00:37 | 280 | |