Index of /checkResults/devel/bioc-LATEST/geneRxCluster/raw-results/palomino4

[ICO]NameLast modifiedSizeDescription

[DIR]Parent Directory  -  
[TXT]buildbin-out.txt02-Jul-2022 00:06 2.1K 
[   ]buildbin-summary.dcf02-Jul-2022 00:06 569  
[TXT]buildsrc-out.txt02-Jul-2022 00:06 901  
[   ]buildsrc-summary.dcf02-Jul-2022 00:06 476  
[TXT]checksrc-out.txt02-Jul-2022 00:06 7.0K 
[   ]checksrc-summary.dcf02-Jul-2022 00:06 473  
[TXT]install-out.txt02-Jul-2022 00:06 2.8K 
[   ]install-summary.dcf02-Jul-2022 00:06 682