Index of /checkResults/devel/bioc-LATEST/geneRxCluster/raw-results/nebbiolo2

[ICO]NameLast modifiedSizeDescription

[DIR]Parent Directory  -  
[TXT]buildsrc-out.txt01-Jul-2022 00:05 860  
[   ]buildsrc-summary.dcf01-Jul-2022 00:05 435  
[TXT]checksrc-out.txt01-Jul-2022 00:05 6.5K 
[   ]checksrc-summary.dcf01-Jul-2022 00:05 447  
[TXT]install-out.txt01-Jul-2022 00:05 1.8K 
[   ]install-summary.dcf01-Jul-2022 00:05 271