Index of /checkResults/devel/bioc-LATEST/geneRxCluster/raw-results

[ICO]NameLast modifiedSizeDescription

[DIR]Parent Directory  -  
[DIR]nebbiolo2/07-Jul-2022 00:05 -  
[DIR]palomino4/07-Jul-2022 00:07 -  
[DIR]lconway/07-Jul-2022 00:08 -  
[   ]info.dcf07-Jul-2022 00:10 274  
[DIR]kjohnson/07-Jul-2022 00:10 -