Back to Multiple platform build/check report for BioC 3.13
ABCDEF[G]HIJKLMNOPQRSTUVWXYZ

BUILD report for geneClassifiers on tokay2

This page was generated on 2021-01-25 12:36:01 -0500 (Mon, 25 Jan 2021).

TO THE DEVELOPERS/MAINTAINERS OF THE geneClassifiers PACKAGE: Please make sure to use the following settings in order to reproduce any error or warning you see on this page.
Package 675/1938HostnameOS / ArchINSTALLBUILDCHECKBUILD BIN
geneClassifiers 1.15.0
R Kuiper
Snapshot Date: 2021-01-24 14:40:26 -0500 (Sun, 24 Jan 2021)
URL: https://git.bioconductor.org/packages/geneClassifiers
Branch: master
Last Commit: 2b79514
Last Changed Date: 2020-10-27 11:21:25 -0500 (Tue, 27 Oct 2020)
malbec2 Linux (Ubuntu 20.04.1 LTS) / x86_64  OK  OK  OK UNNEEDED, same version exists in internal repository
tokay2 Windows Server 2012 R2 Standard / x64  OK [ OK ] OK  OK UNNEEDED, same version exists in internal repository
riesling1 Windows Server 2019 Standard / x64  OK  OK  OK  OK 
machv2 macOS 10.14.6 Mojave / x86_64  OK  OK  OK  OK UNNEEDED, same version exists in internal repository

Summary

Package: geneClassifiers
Version: 1.15.0
Command: chmod a+r geneClassifiers -R && C:\Users\biocbuild\bbs-3.13-bioc\R\bin\R.exe CMD build --keep-empty-dirs --no-resave-data geneClassifiers
StartedAt: 2021-01-24 22:21:20 -0500 (Sun, 24 Jan 2021)
EndedAt: 2021-01-24 22:21:46 -0500 (Sun, 24 Jan 2021)
EllapsedTime: 26.7 seconds
RetCode: 0
Status:  OK  
PackageFile: geneClassifiers_1.15.0.tar.gz
PackageFileSize: 1.765 MiB

Command output

##############################################################################
##############################################################################
###
### Running command:
###
###   chmod a+r geneClassifiers -R && C:\Users\biocbuild\bbs-3.13-bioc\R\bin\R.exe CMD build --keep-empty-dirs --no-resave-data geneClassifiers
###
##############################################################################
##############################################################################


* checking for file 'geneClassifiers/DESCRIPTION' ... OK
* preparing 'geneClassifiers':
* checking DESCRIPTION meta-information ... OK
* installing the package to build vignettes
* creating vignettes ... OK
* checking for LF line-endings in source and make files and shell scripts
* checking for empty or unneeded directories
* building 'geneClassifiers_1.15.0.tar.gz'